BEGIN:VCALENDAR
VERSION:2.0
PRODID:-//Community Action Organization - ECPv6.15.20//NONSGML v1.0//EN
CALSCALE:GREGORIAN
METHOD:PUBLISH
X-ORIGINAL-URL:https://ilcao.org
X-WR-CALDESC:Events for Community Action Organization
REFRESH-INTERVAL;VALUE=DURATION:PT1H
X-Robots-Tag:noindex
X-PUBLISHED-TTL:PT1H
BEGIN:VTIMEZONE
TZID:America/New_York
BEGIN:DAYLIGHT
TZOFFSETFROM:-0500
TZOFFSETTO:-0400
TZNAME:EDT
DTSTART:20240310T070000
END:DAYLIGHT
BEGIN:STANDARD
TZOFFSETFROM:-0400
TZOFFSETTO:-0500
TZNAME:EST
DTSTART:20241103T060000
END:STANDARD
BEGIN:DAYLIGHT
TZOFFSETFROM:-0500
TZOFFSETTO:-0400
TZNAME:EDT
DTSTART:20250309T070000
END:DAYLIGHT
BEGIN:STANDARD
TZOFFSETFROM:-0400
TZOFFSETTO:-0500
TZNAME:EST
DTSTART:20251102T060000
END:STANDARD
BEGIN:DAYLIGHT
TZOFFSETFROM:-0500
TZOFFSETTO:-0400
TZNAME:EDT
DTSTART:20260308T070000
END:DAYLIGHT
BEGIN:STANDARD
TZOFFSETFROM:-0400
TZOFFSETTO:-0500
TZNAME:EST
DTSTART:20261101T060000
END:STANDARD
END:VTIMEZONE
BEGIN:VEVENT
DTSTART;TZID=America/New_York:20251201T080000
DTEND;TZID=America/New_York:20251201T090000
DTSTAMP:20260423T134748
CREATED:20251125T044413Z
LAST-MODIFIED:20251125T044413Z
UID:40739-1764576000-1764579600@ilcao.org
SUMMARY:OhioMeansJobs Website Intro
DESCRIPTION:Overview of OhioMeansJobs Website including Features & Benefits\, Posting Resumes\, Job Searching\, using Backpack\, etc. *Schedule Subject to change\, feel free to contact us at 740-532-3140 or stop by with any questions.
URL:https://ilcao.org/event/ohiomeansjobs-website-intro-109/
CATEGORIES:OhioMeansJobs
ATTACH;FMTTYPE=image/webp:https://ilcao.org/wp-content/uploads/2024/01/header-image-FEATURE-24.webp
END:VEVENT
BEGIN:VEVENT
DTSTART;TZID=America/New_York:20251208T080000
DTEND;TZID=America/New_York:20251208T090000
DTSTAMP:20260423T134748
CREATED:20251201T165300Z
LAST-MODIFIED:20251201T165300Z
UID:40768-1765180800-1765184400@ilcao.org
SUMMARY:OhioMeansJobs Website Intro
DESCRIPTION:Overview of OhioMeansJobs Website including Features & Benefits\, Posting Resumes\, Job Searching\, using Backpack\, etc. *Schedule Subject to change\, feel free to contact us at 740-532-3140 or stop by with any questions.
URL:https://ilcao.org/event/ohiomeansjobs-website-intro-110/
CATEGORIES:OhioMeansJobs
ATTACH;FMTTYPE=image/webp:https://ilcao.org/wp-content/uploads/2024/01/header-image-FEATURE-24.webp
END:VEVENT
BEGIN:VEVENT
DTSTART;TZID=America/New_York:20251215T080000
DTEND;TZID=America/New_York:20251215T090000
DTSTAMP:20260423T134748
CREATED:20251209T144133Z
LAST-MODIFIED:20251209T144521Z
UID:40863-1765785600-1765789200@ilcao.org
SUMMARY:OhioMeansJobs Website Intro
DESCRIPTION:Overview of OhioMeansJobs Website including Features & Benefits\, Posting Resumes\, Job Searching\, using Backpack\, etc. *Schedule Subject to change\, feel free to contact us at 740-532-3140 or stop by with any questions.
URL:https://ilcao.org/event/ohiomeansjobs-website-intro-111/
CATEGORIES:Head Start,OhioMeansJobs
ATTACH;FMTTYPE=image/webp:https://ilcao.org/wp-content/uploads/2024/01/header-image-FEATURE-24.webp
END:VEVENT
BEGIN:VEVENT
DTSTART;TZID=America/New_York:20251222T080000
DTEND;TZID=America/New_York:20251222T090000
DTSTAMP:20260423T134748
CREATED:20251215T160645Z
LAST-MODIFIED:20251215T160645Z
UID:41089-1766390400-1766394000@ilcao.org
SUMMARY:OhioMeansJobs Website Intro
DESCRIPTION:Overview of OhioMeansJobs Website including Features & Benefits\, Posting Resumes\, Job Searching\, using Backpack\, etc. *Schedule Subject to change\, feel free to contact us at 740-532-3140 or stop by with any questions.
URL:https://ilcao.org/event/ohiomeansjobs-website-intro-112/
CATEGORIES:OhioMeansJobs
ATTACH;FMTTYPE=image/webp:https://ilcao.org/wp-content/uploads/2024/01/header-image-FEATURE-24.webp
END:VEVENT
BEGIN:VEVENT
DTSTART;TZID=America/New_York:20251225T080000
DTEND;TZID=America/New_York:20251225T170000
DTSTAMP:20260423T134748
CREATED:20251215T160959Z
LAST-MODIFIED:20251215T160959Z
UID:41091-1766649600-1766682000@ilcao.org
SUMMARY:Office Closed – Christmas
DESCRIPTION:All of our offices will be closed Thursday\, December 25th in observance of the Christmas holiday. We will resume normal operating hours Friday\, December 26th.
URL:https://ilcao.org/event/office-closed-christmas-3/
CATEGORIES:OhioMeansJobs
ATTACH;FMTTYPE=image/jpeg:https://ilcao.org/wp-content/uploads/2022/12/christmas-smgl-357-e1540828112894-8VYQCN.tmp_.jpg
END:VEVENT
BEGIN:VEVENT
DTSTART;TZID=America/New_York:20251229T080000
DTEND;TZID=America/New_York:20251229T090000
DTSTAMP:20260423T134748
CREATED:20251229T000100Z
LAST-MODIFIED:20251229T000100Z
UID:41179-1766995200-1766998800@ilcao.org
SUMMARY:OhioMeansJobs Website Intro
DESCRIPTION:Overview of OhioMeansJobs Website including Features & Benefits\, Posting Resumes\, Job Searching\, using Backpack\, etc. *Schedule Subject to change\, feel free to contact us at 740-532-3140 or stop by with any questions.
URL:https://ilcao.org/event/ohiomeansjobs-website-intro-113/
ATTACH;FMTTYPE=image/webp:https://ilcao.org/wp-content/uploads/2024/01/header-image-FEATURE-24.webp
END:VEVENT
END:VCALENDAR