BEGIN:VCALENDAR
VERSION:2.0
PRODID:-//Community Action Organization - ECPv6.15.20//NONSGML v1.0//EN
CALSCALE:GREGORIAN
METHOD:PUBLISH
X-WR-CALNAME:Community Action Organization
X-ORIGINAL-URL:https://ilcao.org
X-WR-CALDESC:Events for Community Action Organization
REFRESH-INTERVAL;VALUE=DURATION:PT1H
X-Robots-Tag:noindex
X-PUBLISHED-TTL:PT1H
BEGIN:VTIMEZONE
TZID:America/New_York
BEGIN:DAYLIGHT
TZOFFSETFROM:-0500
TZOFFSETTO:-0400
TZNAME:EDT
DTSTART:20230312T070000
END:DAYLIGHT
BEGIN:STANDARD
TZOFFSETFROM:-0400
TZOFFSETTO:-0500
TZNAME:EST
DTSTART:20231105T060000
END:STANDARD
BEGIN:DAYLIGHT
TZOFFSETFROM:-0500
TZOFFSETTO:-0400
TZNAME:EDT
DTSTART:20240310T070000
END:DAYLIGHT
BEGIN:STANDARD
TZOFFSETFROM:-0400
TZOFFSETTO:-0500
TZNAME:EST
DTSTART:20241103T060000
END:STANDARD
BEGIN:DAYLIGHT
TZOFFSETFROM:-0500
TZOFFSETTO:-0400
TZNAME:EDT
DTSTART:20250309T070000
END:DAYLIGHT
BEGIN:STANDARD
TZOFFSETFROM:-0400
TZOFFSETTO:-0500
TZNAME:EST
DTSTART:20251102T060000
END:STANDARD
END:VTIMEZONE
BEGIN:VEVENT
DTSTART;VALUE=DATE:20240517
DTEND;VALUE=DATE:20240518
DTSTAMP:20260425T123332
CREATED:20240506T144531Z
LAST-MODIFIED:20240506T144531Z
UID:9167-1715904000-1715990399@ilcao.org
SUMMARY:One on One Basic Microsoft Tutorial
DESCRIPTION:OhioMeansJobs is offering a one on one basic Microsoft Office tutorial on Fridays. Call 740-532-3140.
URL:https://ilcao.org/event/one-on-one-basic-microsoft-tutorial-143/
LOCATION:OH
CATEGORIES:Career Workshops,Education
ATTACH;FMTTYPE=image/webp:https://ilcao.org/wp-content/uploads/2023/08/efsa-1-18-1276-e15150135123442-TfGEaK.tmp_-hcaHvS.tmp_-jpg-CK21lx.tmp_.webp
END:VEVENT
BEGIN:VEVENT
DTSTART;TZID=America/New_York:20240521T083000
DTEND;TZID=America/New_York:20240521T153000
DTSTAMP:20260425T123332
CREATED:20240513T141136Z
LAST-MODIFIED:20240513T141136Z
UID:9180-1716280200-1716305400@ilcao.org
SUMMARY:Lawrence County Early Childhood Registrations
DESCRIPTION:A representative will be here on most Tuesdays and Thursdays to do Early Childhood Registrations or answer questions regarding their services. Call 740-533-9077 with any questions.
URL:https://ilcao.org/event/lawrence-county-early-childhood-registrations-84/
LOCATION:OhioMeansJobs One Stop Center\, 120 N 3rd St.\, Ironton\, OH\, 45638\, United States
CATEGORIES:Education,Head Start
ATTACH;FMTTYPE=image/jpeg:https://ilcao.org/wp-content/uploads/2021/09/Elementary62-GGgvDK.tmp_.jpg
END:VEVENT
BEGIN:VEVENT
DTSTART;TZID=America/New_York:20240522T100000
DTEND;TZID=America/New_York:20240522T170000
DTSTAMP:20260425T123332
CREATED:20240513T141149Z
LAST-MODIFIED:20240513T141149Z
UID:9181-1716372000-1716397200@ilcao.org
SUMMARY:Financial Assistance for Education
DESCRIPTION:Most Wednesdays (Subject to change)\, an EOC representative will be available to assist with resources towards educational goals\, such as FASFA questions\, etc. Call 740-547-3875 for more information.
URL:https://ilcao.org/event/financial-assistance-for-education-41/
LOCATION:OhioMeansJobs One Stop Center\, 120 N 3rd St.\, Ironton\, OH\, 45638\, United States
CATEGORIES:Education,Financial Assistance
ATTACH;FMTTYPE=image/jpeg:https://ilcao.org/wp-content/uploads/2021/01/university-student-doing-homework-HBSNARB-scaled-e1611248191206-ZIf4FW.tmp_.jpg
END:VEVENT
BEGIN:VEVENT
DTSTART;TZID=America/New_York:20240523T083000
DTEND;TZID=America/New_York:20240523T150000
DTSTAMP:20260425T123332
CREATED:20240513T141208Z
LAST-MODIFIED:20240513T141208Z
UID:9182-1716453000-1716476400@ilcao.org
SUMMARY:Lawrence County Early Childhood Registrations
DESCRIPTION:A representative will be here on most Tuesdays and Thursdays to do Early Childhood Registrations or answer questions regarding their services. Call 740-533-9077 with any questions.
URL:https://ilcao.org/event/lawrence-county-early-childhood-registrations-85/
LOCATION:OhioMeansJobs One Stop Center\, 120 N 3rd St.\, Ironton\, OH\, 45638\, United States
CATEGORIES:Education,Head Start
ATTACH;FMTTYPE=image/jpeg:https://ilcao.org/wp-content/uploads/2021/09/Elementary62-GGgvDK.tmp_.jpg
END:VEVENT
BEGIN:VEVENT
DTSTART;VALUE=DATE:20240524
DTEND;VALUE=DATE:20240525
DTSTAMP:20260425T123332
CREATED:20240513T141220Z
LAST-MODIFIED:20240513T141220Z
UID:9183-1716508800-1716595199@ilcao.org
SUMMARY:One on One Basic Microsoft Tutorial
DESCRIPTION:OhioMeansJobs is offering a one on one basic Microsoft Office tutorial on Fridays. Call 740-532-3140.
URL:https://ilcao.org/event/one-on-one-basic-microsoft-tutorial-145/
LOCATION:OH
CATEGORIES:Career Workshops,Education
ATTACH;FMTTYPE=image/webp:https://ilcao.org/wp-content/uploads/2023/08/efsa-1-18-1276-e15150135123442-TfGEaK.tmp_-hcaHvS.tmp_-jpg-CK21lx.tmp_.webp
END:VEVENT
BEGIN:VEVENT
DTSTART;TZID=America/New_York:20240528T083000
DTEND;TZID=America/New_York:20240528T153000
DTSTAMP:20260425T123332
CREATED:20240520T151121Z
LAST-MODIFIED:20240520T151121Z
UID:9191-1716885000-1716910200@ilcao.org
SUMMARY:Lawrence County Early Childhood Registrations
DESCRIPTION:A representative will be here on most Tuesdays and Thursdays to do Early Childhood Registrations or answer questions regarding their services. Call 740-533-9077 with any questions.
URL:https://ilcao.org/event/lawrence-county-early-childhood-registrations-86/
LOCATION:OhioMeansJobs One Stop Center\, 120 N 3rd St.\, Ironton\, OH\, 45638\, United States
CATEGORIES:Education,Head Start
ATTACH;FMTTYPE=image/jpeg:https://ilcao.org/wp-content/uploads/2021/09/Elementary62-GGgvDK.tmp_.jpg
END:VEVENT
BEGIN:VEVENT
DTSTART;TZID=America/New_York:20240529T100000
DTEND;TZID=America/New_York:20240529T170000
DTSTAMP:20260425T123332
CREATED:20240520T151132Z
LAST-MODIFIED:20240520T151132Z
UID:9192-1716976800-1717002000@ilcao.org
SUMMARY:Financial Assistance for Education
DESCRIPTION:Most Wednesdays (Subject to change)\, an EOC representative will be available to assist with resources towards educational goals\, such as FASFA questions\, etc. Call 740-547-3875 for more information.
URL:https://ilcao.org/event/financial-assistance-for-education-42/
LOCATION:OhioMeansJobs One Stop Center\, 120 N 3rd St.\, Ironton\, OH\, 45638\, United States
CATEGORIES:Education,Financial Assistance
ATTACH;FMTTYPE=image/jpeg:https://ilcao.org/wp-content/uploads/2021/01/university-student-doing-homework-HBSNARB-scaled-e1611248191206-ZIf4FW.tmp_.jpg
END:VEVENT
BEGIN:VEVENT
DTSTART;TZID=America/New_York:20240530T083000
DTEND;TZID=America/New_York:20240530T153000
DTSTAMP:20260425T123332
CREATED:20240520T151149Z
LAST-MODIFIED:20240520T151149Z
UID:9193-1717057800-1717083000@ilcao.org
SUMMARY:Lawrence County Early Childhood Registrations
DESCRIPTION:A representative will be here on most Tuesdays and Thursdays to do Early Childhood Registrations or answer questions regarding their services. Call 740-533-9077 with any questions.
URL:https://ilcao.org/event/lawrence-county-early-childhood-registrations-87/
LOCATION:OhioMeansJobs One Stop Center\, 120 N 3rd St.\, Ironton\, OH\, 45638\, United States
CATEGORIES:Education,Head Start
ATTACH;FMTTYPE=image/jpeg:https://ilcao.org/wp-content/uploads/2021/09/Elementary62-GGgvDK.tmp_.jpg
END:VEVENT
BEGIN:VEVENT
DTSTART;VALUE=DATE:20240531
DTEND;VALUE=DATE:20240601
DTSTAMP:20260425T123332
CREATED:20240520T151202Z
LAST-MODIFIED:20240520T151202Z
UID:9194-1717113600-1717199999@ilcao.org
SUMMARY:One on One Basic Microsoft Tutorial
DESCRIPTION:OhioMeansJobs is offering a one on one basic Microsoft Office tutorial on Fridays. Call 740-532-3140.
URL:https://ilcao.org/event/one-on-one-basic-microsoft-tutorial-146/
LOCATION:OH
CATEGORIES:Career Workshops,Education
ATTACH;FMTTYPE=image/webp:https://ilcao.org/wp-content/uploads/2023/08/efsa-1-18-1276-e15150135123442-TfGEaK.tmp_-hcaHvS.tmp_-jpg-CK21lx.tmp_.webp
END:VEVENT
BEGIN:VEVENT
DTSTART;TZID=America/New_York:20240604T083000
DTEND;TZID=America/New_York:20240604T153000
DTSTAMP:20260425T123332
CREATED:20240528T153050Z
LAST-MODIFIED:20240528T153050Z
UID:9205-1717489800-1717515000@ilcao.org
SUMMARY:Lawrence County Early Childhood Registrations
DESCRIPTION:A representative will be here on most Tuesdays and Thursdays to do Early Childhood Registrations or answer questions regarding their services. Call 740-533-9077 with any questions.
URL:https://ilcao.org/event/lawrence-county-early-childhood-registrations-88/
LOCATION:OhioMeansJobs One Stop Center\, 120 N 3rd St.\, Ironton\, OH\, 45638\, United States
CATEGORIES:Education,Head Start
ATTACH;FMTTYPE=image/jpeg:https://ilcao.org/wp-content/uploads/2021/09/Elementary62-GGgvDK.tmp_.jpg
END:VEVENT
BEGIN:VEVENT
DTSTART;TZID=America/New_York:20240605T100000
DTEND;TZID=America/New_York:20240605T170000
DTSTAMP:20260425T123332
CREATED:20240528T153317Z
LAST-MODIFIED:20240528T153317Z
UID:9209-1717581600-1717606800@ilcao.org
SUMMARY:Financial Assistance for Education
DESCRIPTION:Most Wednesdays (Subject to change)\, an EOC representative will be available to assist with resources towards educational goals\, such as FASFA questions\, etc. Call 740-547-3875 for more information.
URL:https://ilcao.org/event/financial-assistance-for-education-43/
LOCATION:OhioMeansJobs One Stop Center\, 120 N 3rd St.\, Ironton\, OH\, 45638\, United States
CATEGORIES:Education,Financial Assistance
ATTACH;FMTTYPE=image/jpeg:https://ilcao.org/wp-content/uploads/2021/01/university-student-doing-homework-HBSNARB-scaled-e1611248191206-ZIf4FW.tmp_.jpg
END:VEVENT
BEGIN:VEVENT
DTSTART;TZID=America/New_York:20240606T083000
DTEND;TZID=America/New_York:20240606T153000
DTSTAMP:20260425T123332
CREATED:20240528T153107Z
LAST-MODIFIED:20240528T153107Z
UID:9206-1717662600-1717687800@ilcao.org
SUMMARY:Lawrence County Early Childhood Registrations
DESCRIPTION:A representative will be here on most Tuesdays and Thursdays to do Early Childhood Registrations or answer questions regarding their services. Call 740-533-9077 with any questions.
URL:https://ilcao.org/event/lawrence-county-early-childhood-registrations-89/
LOCATION:OhioMeansJobs One Stop Center\, 120 N 3rd St.\, Ironton\, OH\, 45638\, United States
CATEGORIES:Education,Head Start
ATTACH;FMTTYPE=image/jpeg:https://ilcao.org/wp-content/uploads/2021/09/Elementary62-GGgvDK.tmp_.jpg
END:VEVENT
BEGIN:VEVENT
DTSTART;VALUE=DATE:20240607
DTEND;VALUE=DATE:20240608
DTSTAMP:20260425T123332
CREATED:20240528T153432Z
LAST-MODIFIED:20240528T153432Z
UID:9211-1717718400-1717804799@ilcao.org
SUMMARY:One on One Basic Microsoft Tutorial
DESCRIPTION:OhioMeansJobs is offering a one on one basic Microsoft Office tutorial on Fridays. Call 740-532-3140.
URL:https://ilcao.org/event/one-on-one-basic-microsoft-tutorial-149/
LOCATION:OH
CATEGORIES:Career Workshops,Education
ATTACH;FMTTYPE=image/webp:https://ilcao.org/wp-content/uploads/2023/08/efsa-1-18-1276-e15150135123442-TfGEaK.tmp_-hcaHvS.tmp_-jpg-CK21lx.tmp_.webp
END:VEVENT
BEGIN:VEVENT
DTSTART;TZID=America/New_York:20240611T083000
DTEND;TZID=America/New_York:20240611T153000
DTSTAMP:20260425T123332
CREATED:20240604T140328Z
LAST-MODIFIED:20240604T140328Z
UID:9217-1718094600-1718119800@ilcao.org
SUMMARY:Lawrence County Early Childhood Registrations
DESCRIPTION:A representative will be here on most Tuesdays and Thursdays to do Early Childhood Registrations or answer questions regarding their services. Call 740-533-9077 with any questions.
URL:https://ilcao.org/event/lawrence-county-early-childhood-registrations-90/
LOCATION:OhioMeansJobs One Stop Center\, 120 N 3rd St.\, Ironton\, OH\, 45638\, United States
CATEGORIES:Education,Head Start
ATTACH;FMTTYPE=image/jpeg:https://ilcao.org/wp-content/uploads/2021/09/Elementary62-GGgvDK.tmp_.jpg
END:VEVENT
BEGIN:VEVENT
DTSTART;TZID=America/New_York:20240612T100000
DTEND;TZID=America/New_York:20240612T170000
DTSTAMP:20260425T123332
CREATED:20240604T140342Z
LAST-MODIFIED:20240604T140342Z
UID:9218-1718186400-1718211600@ilcao.org
SUMMARY:Financial Assistance for Education
DESCRIPTION:Most Wednesdays (Subject to change)\, an EOC representative will be available to assist with resources towards educational goals\, such as FASFA questions\, etc. Call 740-547-3875 for more information.
URL:https://ilcao.org/event/financial-assistance-for-education-44/
LOCATION:OhioMeansJobs One Stop Center\, 120 N 3rd St.\, Ironton\, OH\, 45638\, United States
CATEGORIES:Education,Financial Assistance
ATTACH;FMTTYPE=image/jpeg:https://ilcao.org/wp-content/uploads/2021/01/university-student-doing-homework-HBSNARB-scaled-e1611248191206-ZIf4FW.tmp_.jpg
END:VEVENT
BEGIN:VEVENT
DTSTART;TZID=America/New_York:20240613T083000
DTEND;TZID=America/New_York:20240613T153000
DTSTAMP:20260425T123332
CREATED:20240604T140359Z
LAST-MODIFIED:20240604T140359Z
UID:9219-1718267400-1718292600@ilcao.org
SUMMARY:Lawrence County Early Childhood Registrations
DESCRIPTION:A representative will be here on most Tuesdays and Thursdays to do Early Childhood Registrations or answer questions regarding their services. Call 740-533-9077 with any questions.
URL:https://ilcao.org/event/lawrence-county-early-childhood-registrations-91/
LOCATION:OhioMeansJobs One Stop Center\, 120 N 3rd St.\, Ironton\, OH\, 45638\, United States
CATEGORIES:Education,Head Start
ATTACH;FMTTYPE=image/jpeg:https://ilcao.org/wp-content/uploads/2021/09/Elementary62-GGgvDK.tmp_.jpg
END:VEVENT
BEGIN:VEVENT
DTSTART;VALUE=DATE:20240614
DTEND;VALUE=DATE:20240615
DTSTAMP:20260425T123332
CREATED:20240604T140416Z
LAST-MODIFIED:20240604T140416Z
UID:9220-1718323200-1718409599@ilcao.org
SUMMARY:One on One Basic Microsoft Tutorial
DESCRIPTION:OhioMeansJobs is offering a one on one basic Microsoft Office tutorial on Fridays. Call 740-532-3140.
URL:https://ilcao.org/event/one-on-one-basic-microsoft-tutorial-152/
LOCATION:OH
CATEGORIES:Career Workshops,Education
ATTACH;FMTTYPE=image/webp:https://ilcao.org/wp-content/uploads/2023/08/efsa-1-18-1276-e15150135123442-TfGEaK.tmp_-hcaHvS.tmp_-jpg-CK21lx.tmp_.webp
END:VEVENT
BEGIN:VEVENT
DTSTART;TZID=America/New_York:20240618T083000
DTEND;TZID=America/New_York:20240618T153000
DTSTAMP:20260425T123332
CREATED:20240610T135700Z
LAST-MODIFIED:20240610T135700Z
UID:9233-1718699400-1718724600@ilcao.org
SUMMARY:Lawrence County Early Childhood Registrations
DESCRIPTION:A representative will be here on most Tuesdays and Thursdays to do Early Childhood Registrations or answer questions regarding their services. Call 740-533-9077 with any questions.
URL:https://ilcao.org/event/lawrence-county-early-childhood-registrations-92/
LOCATION:OhioMeansJobs One Stop Center\, 120 N 3rd St.\, Ironton\, OH\, 45638\, United States
CATEGORIES:Education,Head Start
ATTACH;FMTTYPE=image/jpeg:https://ilcao.org/wp-content/uploads/2021/09/Elementary62-GGgvDK.tmp_.jpg
END:VEVENT
BEGIN:VEVENT
DTSTART;TZID=America/New_York:20240620T083000
DTEND;TZID=America/New_York:20240620T153000
DTSTAMP:20260425T123332
CREATED:20240610T135716Z
LAST-MODIFIED:20240610T135716Z
UID:9232-1718872200-1718897400@ilcao.org
SUMMARY:Lawrence County Early Childhood Registrations
DESCRIPTION:A representative will be here on most Tuesdays and Thursdays to do Early Childhood Registrations or answer questions regarding their services. Call 740-533-9077 with any questions.
URL:https://ilcao.org/event/lawrence-county-early-childhood-registrations-93/
LOCATION:OhioMeansJobs One Stop Center\, 120 N 3rd St.\, Ironton\, OH\, 45638\, United States
CATEGORIES:Education,Head Start
ATTACH;FMTTYPE=image/jpeg:https://ilcao.org/wp-content/uploads/2021/09/Elementary62-GGgvDK.tmp_.jpg
END:VEVENT
BEGIN:VEVENT
DTSTART;VALUE=DATE:20240621
DTEND;VALUE=DATE:20240622
DTSTAMP:20260425T123332
CREATED:20240610T135733Z
LAST-MODIFIED:20240610T135733Z
UID:9234-1718928000-1719014399@ilcao.org
SUMMARY:One on One Basic Microsoft Tutorial
DESCRIPTION:OhioMeansJobs is offering a one on one basic Microsoft Office tutorial on Fridays. Call 740-532-3140.
URL:https://ilcao.org/event/one-on-one-basic-microsoft-tutorial-156/
LOCATION:OH
CATEGORIES:Career Workshops,Education
ATTACH;FMTTYPE=image/webp:https://ilcao.org/wp-content/uploads/2023/08/efsa-1-18-1276-e15150135123442-TfGEaK.tmp_-hcaHvS.tmp_-jpg-CK21lx.tmp_.webp
END:VEVENT
BEGIN:VEVENT
DTSTART;TZID=America/New_York:20240625T083000
DTEND;TZID=America/New_York:20240625T153000
DTSTAMP:20260425T123332
CREATED:20240617T131209Z
LAST-MODIFIED:20240617T131209Z
UID:9244-1719304200-1719329400@ilcao.org
SUMMARY:Lawrence County Early Childhood Registrations
DESCRIPTION:A representative will be here on most Tuesdays and Thursdays to do Early Childhood Registrations or answer questions regarding their services. Call 740-533-9077 with any questions.
URL:https://ilcao.org/event/lawrence-county-early-childhood-registrations-94/
LOCATION:OhioMeansJobs One Stop Center\, 120 N 3rd St.\, Ironton\, OH\, 45638\, United States
CATEGORIES:Education,Head Start
ATTACH;FMTTYPE=image/jpeg:https://ilcao.org/wp-content/uploads/2021/09/Elementary62-GGgvDK.tmp_.jpg
END:VEVENT
BEGIN:VEVENT
DTSTART;TZID=America/New_York:20240626T100000
DTEND;TZID=America/New_York:20240626T170000
DTSTAMP:20260425T123332
CREATED:20240617T131221Z
LAST-MODIFIED:20240617T131221Z
UID:9243-1719396000-1719421200@ilcao.org
SUMMARY:Financial Assistance for Education
DESCRIPTION:Most Wednesdays (Subject to change)\, an EOC representative will be available to assist with resources towards educational goals\, such as FASFA questions\, etc. Call 740-547-3875 for more information.
URL:https://ilcao.org/event/financial-assistance-for-education-45/
LOCATION:OhioMeansJobs One Stop Center\, 120 N 3rd St.\, Ironton\, OH\, 45638\, United States
CATEGORIES:Education,Financial Assistance
ATTACH;FMTTYPE=image/jpeg:https://ilcao.org/wp-content/uploads/2021/01/university-student-doing-homework-HBSNARB-scaled-e1611248191206-ZIf4FW.tmp_.jpg
END:VEVENT
BEGIN:VEVENT
DTSTART;TZID=America/New_York:20240627T083000
DTEND;TZID=America/New_York:20240627T153000
DTSTAMP:20260425T123332
CREATED:20240617T131243Z
LAST-MODIFIED:20240617T131243Z
UID:9245-1719477000-1719502200@ilcao.org
SUMMARY:Lawrence County Early Childhood Registrations
DESCRIPTION:A representative will be here on most Tuesdays and Thursdays to do Early Childhood Registrations or answer questions regarding their services. Call 740-533-9077 with any questions.
URL:https://ilcao.org/event/lawrence-county-early-childhood-registrations-95/
LOCATION:OhioMeansJobs One Stop Center\, 120 N 3rd St.\, Ironton\, OH\, 45638\, United States
CATEGORIES:Education,Head Start
ATTACH;FMTTYPE=image/jpeg:https://ilcao.org/wp-content/uploads/2021/09/Elementary62-GGgvDK.tmp_.jpg
END:VEVENT
BEGIN:VEVENT
DTSTART;VALUE=DATE:20240628
DTEND;VALUE=DATE:20240629
DTSTAMP:20260425T123332
CREATED:20240617T131255Z
LAST-MODIFIED:20240617T131255Z
UID:9246-1719532800-1719619199@ilcao.org
SUMMARY:One on One Basic Microsoft Tutorial
DESCRIPTION:OhioMeansJobs is offering a one on one basic Microsoft Office tutorial on Fridays. Call 740-532-3140.
URL:https://ilcao.org/event/one-on-one-basic-microsoft-tutorial-160/
LOCATION:OH
CATEGORIES:Career Workshops,Education
ATTACH;FMTTYPE=image/webp:https://ilcao.org/wp-content/uploads/2023/08/efsa-1-18-1276-e15150135123442-TfGEaK.tmp_-hcaHvS.tmp_-jpg-CK21lx.tmp_.webp
END:VEVENT
BEGIN:VEVENT
DTSTART;TZID=America/New_York:20240702T083000
DTEND;TZID=America/New_York:20240702T153000
DTSTAMP:20260425T123332
CREATED:20240626T202710Z
LAST-MODIFIED:20240626T202710Z
UID:9254-1719909000-1719934200@ilcao.org
SUMMARY:Lawrence County Early Childhood Registrations
DESCRIPTION:A representative will be here on most Tuesdays and Thursdays to do Early Childhood Registrations or answer questions regarding their services. Call 740-533-9077 with any questions.
URL:https://ilcao.org/event/lawrence-county-early-childhood-registrations-96/
LOCATION:OhioMeansJobs One Stop Center\, 120 N 3rd St.\, Ironton\, OH\, 45638\, United States
CATEGORIES:Education,Head Start
ATTACH;FMTTYPE=image/jpeg:https://ilcao.org/wp-content/uploads/2021/09/Elementary62-GGgvDK.tmp_.jpg
END:VEVENT
BEGIN:VEVENT
DTSTART;TZID=America/New_York:20240703T100000
DTEND;TZID=America/New_York:20240703T170000
DTSTAMP:20260425T123332
CREATED:20240626T202733Z
LAST-MODIFIED:20240626T202733Z
UID:9253-1720000800-1720026000@ilcao.org
SUMMARY:Financial Assistance for Education
DESCRIPTION:Most Wednesdays (Subject to change)\, an EOC representative will be available to assist with resources towards educational goals\, such as FASFA questions\, etc. Call 740-547-3875 for more information.
URL:https://ilcao.org/event/financial-assistance-for-education-46/
LOCATION:OhioMeansJobs One Stop Center\, 120 N 3rd St.\, Ironton\, OH\, 45638\, United States
CATEGORIES:Education,Financial Assistance
ATTACH;FMTTYPE=image/jpeg:https://ilcao.org/wp-content/uploads/2021/01/university-student-doing-homework-HBSNARB-scaled-e1611248191206-ZIf4FW.tmp_.jpg
END:VEVENT
BEGIN:VEVENT
DTSTART;VALUE=DATE:20240705
DTEND;VALUE=DATE:20240706
DTSTAMP:20260425T123332
CREATED:20240626T202803Z
LAST-MODIFIED:20240626T202803Z
UID:9255-1720137600-1720223999@ilcao.org
SUMMARY:One on One Basic Microsoft Tutorial
DESCRIPTION:OhioMeansJobs is offering a one on one basic Microsoft Office tutorial on Fridays. Call 740-532-3140.
URL:https://ilcao.org/event/one-on-one-basic-microsoft-tutorial-161/
LOCATION:OH
CATEGORIES:Career Workshops,Education
ATTACH;FMTTYPE=image/webp:https://ilcao.org/wp-content/uploads/2023/08/efsa-1-18-1276-e15150135123442-TfGEaK.tmp_-hcaHvS.tmp_-jpg-CK21lx.tmp_.webp
END:VEVENT
BEGIN:VEVENT
DTSTART;TZID=America/New_York:20240709T083000
DTEND;TZID=America/New_York:20240709T153000
DTSTAMP:20260425T123332
CREATED:20240701T183835Z
LAST-MODIFIED:20240701T183835Z
UID:9263-1720513800-1720539000@ilcao.org
SUMMARY:Lawrence County Early Childhood Registrations
DESCRIPTION:A representative will be here on most Tuesdays and Thursdays to do Early Childhood Registrations or answer questions regarding their services. Call 740-533-9077 with any questions.
URL:https://ilcao.org/event/lawrence-county-early-childhood-registrations-97/
LOCATION:OhioMeansJobs One Stop Center\, 120 N 3rd St.\, Ironton\, OH\, 45638\, United States
CATEGORIES:Education,Head Start
ATTACH;FMTTYPE=image/jpeg:https://ilcao.org/wp-content/uploads/2021/09/Elementary62-GGgvDK.tmp_.jpg
END:VEVENT
BEGIN:VEVENT
DTSTART;TZID=America/New_York:20240710T100000
DTEND;TZID=America/New_York:20240710T170000
DTSTAMP:20260425T123332
CREATED:20240701T183939Z
LAST-MODIFIED:20240701T183939Z
UID:9265-1720605600-1720630800@ilcao.org
SUMMARY:Financial Assistance for Education
DESCRIPTION:Most Wednesdays (Subject to change)\, an EOC representative will be available to assist with resources towards educational goals\, such as FASFA questions\, etc. Call 740-547-3875 for more information.
URL:https://ilcao.org/event/financial-assistance-for-education-47/
LOCATION:OhioMeansJobs One Stop Center\, 120 N 3rd St.\, Ironton\, OH\, 45638\, United States
CATEGORIES:Education,Financial Assistance
ATTACH;FMTTYPE=image/jpeg:https://ilcao.org/wp-content/uploads/2021/01/university-student-doing-homework-HBSNARB-scaled-e1611248191206-ZIf4FW.tmp_.jpg
END:VEVENT
BEGIN:VEVENT
DTSTART;TZID=America/New_York:20240711T083000
DTEND;TZID=America/New_York:20240711T153000
DTSTAMP:20260425T123332
CREATED:20240701T183914Z
LAST-MODIFIED:20240701T183914Z
UID:9266-1720686600-1720711800@ilcao.org
SUMMARY:Lawrence County Early Childhood Registrations
DESCRIPTION:A representative will be here on most Tuesdays and Thursdays to do Early Childhood Registrations or answer questions regarding their services. Call 740-533-9077 with any questions.
URL:https://ilcao.org/event/lawrence-county-early-childhood-registrations-98/
LOCATION:OhioMeansJobs One Stop Center\, 120 N 3rd St.\, Ironton\, OH\, 45638\, United States
CATEGORIES:Education,Head Start
ATTACH;FMTTYPE=image/jpeg:https://ilcao.org/wp-content/uploads/2021/09/Elementary62-GGgvDK.tmp_.jpg
END:VEVENT
END:VCALENDAR